BEGIN:VCALENDAR
VERSION:2.0
PRODID:-//Squarespace Inc/Squarespace 6//v6//EN
BEGIN:VEVENT
UID:55e38174e4b06d04a9959ee8@squarespace.com
DTSTAMP:20150901T225405Z
DTSTART:20151009T230000Z
DTEND:20151010T030000Z
SUMMARY:PRIMAL STUDIO GRAND OPENING
END:VEVENT
END:VCALENDAR
