BEGIN:VCALENDAR
VERSION:2.0
PRODID:-//Squarespace Inc/Squarespace 6//v6//EN
BEGIN:VEVENT
UID:55d2c2d8e4b0649ae706c92a@squarespace.com
DTSTAMP:20150818T053539Z
DTSTART:20150830T190000Z
DTEND:20150831T123000Z
SUMMARY:NEW TIMETABLE LAUNCH
END:VEVENT
END:VCALENDAR
