BEGIN:VCALENDAR
VERSION:2.0
PRODID:-//Squarespace Inc/Squarespace 6//v6//EN
BEGIN:VEVENT
UID:55d3b75ee4b0145993606cbc@squarespace.com
DTSTAMP:20150818T225400Z
DTSTART:20150901T020000Z
DTEND:20150901T030000Z
SUMMARY:STAFF ROWING CHALLENGE
END:VEVENT
END:VCALENDAR
