BEGIN:VCALENDAR
VERSION:2.0
PRODID:-//Squarespace Inc/Squarespace 6//v6//EN
BEGIN:VEVENT
UID:55de5c29e4b09ee347be2ae1@squarespace.com
DTSTAMP:20150830T221903Z
DTSTART:20150906T193000Z
DTEND:20150907T123000Z
SUMMARY:Soft Opening
END:VEVENT
END:VCALENDAR
