BEGIN:VCALENDAR
VERSION:2.0
PRODID:-//Squarespace Inc/Squarespace 6//v6//EN
BEGIN:VEVENT
UID:569d54141115e0984d2bc338@squarespace.com
DTSTAMP:20160121T200525Z
DTSTART:20160305T200000Z
DTEND:20160306T080000Z
SUMMARY:HEIGHTS BARBELL CLUB NOTIVE WEIGHTLIFTING COMPETITION
END:VEVENT
END:VCALENDAR
